BEGIN:VCALENDAR
VERSION:2.0
PRODID:-//ChamberMaster//Event Calendar 2.0//EN
METHOD:PUBLISH
X-PUBLISHED-TTL:P3D
REFRESH-INTERVAL:P3D
CALSCALE:GREGORIAN
BEGIN:VEVENT
DTSTART:20240924T160000Z
DTEND:20240924T170000Z
X-MICROSOFT-CDO-ALLDAYEVENT:FALSE
SUMMARY:Zeroing in on Specific Soft Skills for the Workplace
DESCRIPTION:In this training I cover communication\, teamwork\, emotional intelligence\, customer service\, conflict resolution\, respect & civility. It's created for front-line workers that have to deal with customers and each other every day.
X-ALT-DESC;FMTTYPE=text/html:In this training I cover communication\, teamwork\, emotional intelligence\, customer service\, conflict resolution\, respect &amp\; civility. It&rsquo\;s created for front-line workers that have to&nbsp\;deal with customers and each other every day.
LOCATION:Online Event
UID:e.3485.12565
SEQUENCE:3
DTSTAMP:20260423T040156Z
URL:https://www.mountdora.com/events/details/zeroing-in-on-specific-soft-skills-for-the-workplace-12565
END:VEVENT

END:VCALENDAR
