BEGIN:VCALENDAR
VERSION:2.0
PRODID:-//ChamberMaster//Event Calendar 2.0//EN
METHOD:PUBLISH
X-PUBLISHED-TTL:P3D
REFRESH-INTERVAL:P3D
CALSCALE:GREGORIAN
BEGIN:VEVENT
DTSTART:20250412T140000Z
DTEND:20250412T150000Z
X-MICROSOFT-CDO-ALLDAYEVENT:FALSE
SUMMARY:You Hate to Sell But Need More Business
DESCRIPTION:Few of us want a career as a stereotype selfish sales attitude that takes advantage of customers. The problem is that without sales\, you have no business. Attendees will learn a radically different approach that generates great business results that is easy\, ethical\, and utilizes communication approaches that will remind of you of doctors and elementary school teachers and will not fit the stereotype approaches of home improvement and car salespeople.
X-ALT-DESC;FMTTYPE=text/html:Few of us want a career as a stereotype selfish sales attitude that takes advantage of customers. The problem is that&nbsp\;without sales\, you have no business. Attendees will&nbsp\;learn a radically different approach&nbsp\;that generates great business results that is easy\, ethical\, and utilizes communication approaches that will remind of you of doctors and elementary school teachers and will not fit the stereotype approaches of home improvement and car salespeople.
LOCATION:Online Event
UID:e.3485.14609
SEQUENCE:3
DTSTAMP:20260422T192720Z
URL:https://www.mountdora.com/events/details/you-hate-to-sell-but-need-more-business-04-12-2025-14609
END:VEVENT

END:VCALENDAR
