BEGIN:VCALENDAR
VERSION:2.0
PRODID:-//ChamberMaster//Event Calendar 2.0//EN
METHOD:PUBLISH
X-PUBLISHED-TTL:P3D
REFRESH-INTERVAL:P3D
CALSCALE:GREGORIAN
BEGIN:VEVENT
DTSTART:20251024T200000Z
DTEND:20251024T230000Z
X-MICROSOFT-CDO-ALLDAYEVENT:FALSE
SUMMARY:Worthwhile Therapy Grand Opening
DESCRIPTION:Worthwhile Therapy Grand Opening\n\n  620 N. Highland Street\, Mount Dora\, FL 32757\n\n  Friday\, October 24th |   4:00 PM   7:00 PM\n\n\n\nCome tour our space\, meet our therapists\, and learn more about our services for adults\, teens\, and kids.
X-ALT-DESC;FMTTYPE=text/html:<blockquote style="color: rgb(36\, 36\, 36)\; font-family: &quot\;Segoe UI&quot\;\, &quot\;Segoe UI Web (West European)&quot\;\, -apple-system\, BlinkMacSystemFont\, Roboto\, &quot\;Helvetica Neue&quot\;\, sans-serif\; font-size: 15px\; background-color: rgb(255\, 255\, 255)\;" type="cite">\n<div dir="ltr" style="border: 0px\; font: inherit\; margin: 0px\; padding: 0px\; vertical-align: baseline\; color: inherit\;">\n<div dir="ltr" style="border: 0px\; font: inherit\; margin: 0px\; padding: 0px\; vertical-align: baseline\; color: inherit\;">\n<div style="border: 0px\; font: inherit\; margin: 0px\; padding: 0px\; vertical-align: baseline\; color: inherit\;">\n<div style="border: 0px\; font: inherit\; margin: 0px\; padding: 0px\; vertical-align: baseline\; color: inherit\;">\n<p>Worthwhile Therapy Grand Opening<br />\n&#128205\; 620 N. Highland Street\, Mount Dora\, FL 32757<br />\n&#128197\; Friday\, October 24th | &#9200\; 4:00 PM &ndash\; 7:00 PM<br />\n<br />\nCome tour our space\, meet our therapists\, and learn more about our services for adults\, teens\, and kids.</p>\n\n<p>&nbsp\;</p>\n</div>\n</div>\n</div>\n</div>\n</blockquote>\n
LOCATION:
UID:e.3485.19737
SEQUENCE:3
DTSTAMP:20260422T073807Z
URL:https://www.mountdora.com/events/details/worthwhile-therapy-grand-opening-19737
END:VEVENT

END:VCALENDAR
