BEGIN:VCALENDAR
VERSION:2.0
PRODID:-//ChamberMaster//Event Calendar 2.0//EN
METHOD:PUBLISH
X-PUBLISHED-TTL:P3D
REFRESH-INTERVAL:P3D
CALSCALE:GREGORIAN
BEGIN:VEVENT
DTSTART:20250809T140000Z
DTEND:20250809T150000Z
X-MICROSOFT-CDO-ALLDAYEVENT:FALSE
SUMMARY:World Class Leadership – What Works And What Doesn’t
DESCRIPTION:What's the difference between leadership and management capabilities for small business and entrepreneurial ventures? There are lots of books on the topic\, but most are written as if you work for a Fortune 500 company and therefore can be a waste of your time. Learn concepts\, approaches and strategies that most successful entrepreneurs and small business owners figured out\, but over 90% of their competitors never did!
X-ALT-DESC;FMTTYPE=text/html:What&rsquo\;s the&nbsp\;difference between leadership and management&nbsp\;capabilities for small business and entrepreneurial ventures? There are lots of books on the topic\,&nbsp\;but most are written as if you work for a Fortune 500 company and therefore can be a waste of your time.&nbsp\;Learn concepts\, approaches and strategies&nbsp\;that most successful entrepreneurs and small business owners figured out\, but over 90% of their competitors never did!
LOCATION:Online Event
UID:e.3485.19437
SEQUENCE:3
DTSTAMP:20260422T105838Z
URL:https://www.mountdora.com/events/details/world-class-leadership-what-works-and-what-doesn-t-08-09-2025-19437
END:VEVENT

END:VCALENDAR
