BEGIN:VCALENDAR
VERSION:2.0
PRODID:-//ChamberMaster//Event Calendar 2.0//EN
METHOD:PUBLISH
X-PUBLISHED-TTL:P3D
REFRESH-INTERVAL:P3D
CALSCALE:GREGORIAN
BEGIN:VEVENT
DTSTART:20291025T133000Z
DTEND:20291025T150000Z
X-MICROSOFT-CDO-ALLDAYEVENT:FALSE
SUMMARY:Widowed Support Group
DESCRIPTION:The widowed support group of First United Methodist Church of Mount Dora meets at 9:30 am in the chapel on the fourth Thursday of each month.  It is open to men and women who have experienced loss.
X-ALT-DESC;FMTTYPE=text/html:<p class="gmail-msonospacing"><span style="font-size:14.0pt\;font-family:&quot\;Tahoma&quot\;\,sans-serif">The widowed support group of First United Methodist Church of Mount Dora meets at 9:30 am in the chapel on the fourth Thursday of each month.&nbsp\; It is open to men and women who have experienced loss.&nbsp\; </span><o:p></o:p></p>\n
LOCATION:First United Methodist Church 333 E. Fifth Avenue Mount Dora\, FL 32757 First United Methodist Church Chapel is located at 333 E. Fifth Avenue in Mount Dora. The chapel is the first building west of the sanctuary.
UID:e.3485.5863
SEQUENCE:3
DTSTAMP:20260424T121128Z
URL:https://www.mountdora.com/events/details/widowed-support-group-10-25-2029-5863
END:VEVENT

END:VCALENDAR
