BEGIN:VCALENDAR
VERSION:2.0
PRODID:-//ChamberMaster//Event Calendar 2.0//EN
METHOD:PUBLISH
X-PUBLISHED-TTL:P3D
REFRESH-INTERVAL:P3D
CALSCALE:GREGORIAN
BEGIN:VEVENT
DTSTART:20250123T150000Z
DTEND:20250123T160000Z
X-MICROSOFT-CDO-ALLDAYEVENT:FALSE
SUMMARY:When You Know Your WHY – Your Marketing Has More Impact
DESCRIPTION:Ever feel like your marketing is missing that special spark? In this workshop\, we'll explore how defining your "Why" can supercharge your marketing efforts\, helping you stay motivated and connect more meaningfully with your customers.\n\n\n\nIn this interactive session\, you'll learn how to:\n\n\n\nIdentify the vison and purpose behind your business and how to use it to drive your messaging.\n\nStay motivated and on track\, even when marketing feels like a grind.\n\nFocus your marketing efforts on what matters most\, eliminating distractions and amplifying impact.\n\n\n\nBy the end of this workshop\, you'll walk away with a clearer understanding of how your business helps your community and a renewed commitment to sharing it in a way that forms lasting connections.
X-ALT-DESC;FMTTYPE=text/html:Ever feel like your marketing is missing that special spark? In this workshop\, we&#39\;ll explore how defining your &quot\;Why&quot\; can supercharge your marketing efforts\, helping you stay motivated and connect more meaningfully with your customers.<br />\n<br />\nIn this interactive session\, you&#39\;ll learn how to:<br />\n<br />\nIdentify the vison and purpose behind your business and how to use it to drive your messaging.<br />\nStay motivated and on track\, even when marketing feels like a grind.<br />\nFocus your marketing efforts on what matters most\, eliminating distractions and amplifying impact.<br />\n<br />\nBy the end of this workshop\, you&rsquo\;ll walk away with a clearer understanding of how your business helps your community and a renewed commitment to sharing it in a way that forms lasting connections.&nbsp\;<br />\n<br />\n&nbsp\;
LOCATION:Online Event
UID:e.3485.13264
SEQUENCE:3
DTSTAMP:20260422T222930Z
URL:https://www.mountdora.com/events/details/when-you-know-your-why-your-marketing-has-more-impact-13264
END:VEVENT

END:VCALENDAR
