BEGIN:VCALENDAR
VERSION:2.0
PRODID:-//ChamberMaster//Event Calendar 2.0//EN
METHOD:PUBLISH
X-PUBLISHED-TTL:P3D
REFRESH-INTERVAL:P3D
CALSCALE:GREGORIAN
BEGIN:VEVENT
DTSTART:20241204T170000Z
DTEND:20241204T180000Z
X-MICROSOFT-CDO-ALLDAYEVENT:FALSE
SUMMARY:When Banks Say No
DESCRIPTION:It's tough for small businesses to get funding. In fact\, 80-85% of small business loan requests are denied by banks. So\, what's a small business owner to do when the bank says no? Find alternative funding sources! "When Banks Say No" provides an overview of alternative funding options for small business owners who need money to start\, support or grow their businesses.\n\n\n\nTakeaways from and Benefits of Attending "When Banks Say No":\n\n\n\n1.    Hope! A "no" from the bank is not the end of the road. There are many options available for nearly any business situation.\n\n\n\n2.    Understanding! We'll explain many funding options that banks just don't offer. One might be just what you need!\n\n\n\n3.    Direction! When you identify one or two loan options that work for you\, you can take the steps towards acquiring that money to start or support or grow your business.
X-ALT-DESC;FMTTYPE=text/html:It&rsquo\;s tough for small businesses to get funding. In fact\, 80-85% of small business loan requests are denied by banks. So\, what&rsquo\;s a small business owner to do when the bank says no? Find alternative funding sources!&nbsp\;&ldquo\;When Banks Say No&rdquo\;&nbsp\;provides an overview of alternative funding options for small business owners who need money to start\, support or grow their businesses.<br />\n<br />\nTakeaways from and Benefits of Attending&nbsp\;&ldquo\;When Banks Say No&rdquo\;:<br />\n<br />\n1.&nbsp\;&nbsp\;&nbsp\;&nbsp\;Hope!&nbsp\;A &ldquo\;no&rdquo\; from the bank is not the end of the road. There are many options available for nearly any business situation.<br />\n<br />\n2.&nbsp\;&nbsp\;&nbsp\;&nbsp\;Understanding!&nbsp\;We&rsquo\;ll explain many funding options that banks just don&rsquo\;t offer. One might be just what you need!<br />\n<br />\n3.&nbsp\;&nbsp\;&nbsp\;&nbsp\;Direction!&nbsp\;When you identify one or two loan options that work for you\, you can take the steps towards acquiring that money to start or support or grow your business.
LOCATION:Online Event
UID:e.3485.13205
SEQUENCE:3
DTSTAMP:20260422T222846Z
URL:https://www.mountdora.com/events/details/when-banks-say-no-12-04-2024-13205
END:VEVENT

END:VCALENDAR
