BEGIN:VCALENDAR
VERSION:2.0
PRODID:-//ChamberMaster//Event Calendar 2.0//EN
METHOD:PUBLISH
X-PUBLISHED-TTL:P3D
REFRESH-INTERVAL:P3D
CALSCALE:GREGORIAN
BEGIN:VEVENT
DTSTART:20250904T120000Z
DTEND:20250904T130000Z
X-MICROSOFT-CDO-ALLDAYEVENT:FALSE
SUMMARY:What’s Driving Your Business—Clarity\, Legacy\, or Exhaustion?
DESCRIPTION:Whether you're just starting out or have been running your business for years\, the pressures of entrepreneurship don't simply disappear with experience they evolve. Many business owners\, regardless of tenure\, find themselves caught in a cycle of doing more and pushing harder\, measuring success by activity instead of alignment.\n\n\n\n\n\nThis highly practical and reflective session explores the forces that drive your business\, and how to grow from a place of clarity not exhaustion. You'll uncover universal strategies for building (and scaling) a business that supports your well-being\, aligns with your values\, and avoids the costly trap of burnout a challenge faced as much by seasoned entrepreneurs as by those just getting started.\n\n\n\n\n\nGrounded in real-world stories and actionable insights\, this workshop helps you step back\, re-center\, and take clear\, purposeful action? ?no matter what stage of business you're in.\n\n\n\n\n\nThree Key Takeaways:\n\n\n\nDiagnose Your "Driver": Learn to identify whether clarity\, legacy\, or exhaustion is steering your business right now\, so you can course-correct before burnout sets in at any stage of entrepreneurship.\n\n\n\nBreak the Burnout Cycle: Discover proven mindset shifts and preventative strategies that help entrepreneurs of all experience levels create boundaries\, set sustainable goals\, and maintain energy for the long haul.\n\n\n\nLead with Intention: Walk away with a simple\, actionable framework for making values-driven decisions that protect your well-being and future regardless of how long you've been in business.
X-ALT-DESC;FMTTYPE=text/html:Whether you&rsquo\;re just starting out or have been running your business for years\, the pressures of entrepreneurship don&rsquo\;t simply disappear with experience&mdash\;they evolve. Many business owners\, regardless of tenure\, find themselves caught in a cycle of doing more and pushing harder\, measuring success by activity instead of alignment.<br />\n<br />\n<br />\nThis highly practical and reflective session explores the forces that drive your business\, and how to grow from a place of clarity&mdash\;not exhaustion. You&rsquo\;ll uncover universal strategies for building (and scaling) a business that supports your well-being\, aligns with your values\, and avoids the costly trap of burnout&mdash\;a challenge faced as much by seasoned entrepreneurs as by those just getting started.<br />\n<br />\n<br />\nGrounded in real-world stories and actionable insights\, this workshop helps you step back\, re-center\, and take clear\, purposeful action?&mdash\;?no matter what stage of business you&rsquo\;re in.<br />\n<br />\n<br />\nThree Key Takeaways:<br />\n<br />\nDiagnose Your &ldquo\;Driver&rdquo\;:&nbsp\;Learn to identify whether clarity\, legacy\, or exhaustion is steering your business right now\, so you can course-correct before burnout sets in&mdash\;at any stage of entrepreneurship.<br />\n<br />\nBreak the Burnout Cycle:&nbsp\;Discover proven mindset shifts and preventative strategies that help entrepreneurs of all experience levels create boundaries\, set sustainable goals\, and maintain energy for the long haul.<br />\n<br />\nLead with Intention:&nbsp\;Walk away with a simple\, actionable framework for making values-driven decisions that protect your well-being and future&mdash\;regardless of how long you&rsquo\;ve been in business.<br />\n<br />\n&nbsp\;
LOCATION:Online Event
UID:e.3485.19532
SEQUENCE:3
DTSTAMP:20260422T110305Z
URL:https://www.mountdora.com/events/details/what-s-driving-your-business-clarity-legacy-or-exhaustion-19532
END:VEVENT

END:VCALENDAR
