BEGIN:VCALENDAR
VERSION:2.0
PRODID:-//ChamberMaster//Event Calendar 2.0//EN
METHOD:PUBLISH
X-PUBLISHED-TTL:P3D
REFRESH-INTERVAL:P3D
CALSCALE:GREGORIAN
BEGIN:VEVENT
DTSTART:20260319T230000Z
DTEND:20260320T000000Z
X-MICROSOFT-CDO-ALLDAYEVENT:FALSE
SUMMARY:What Business Should You Be In?
DESCRIPTION:The idea of having your own business is enticing to many\, but it is often intimidating to take that step. Learn about the lifestyle impacts of being an entrepreneur versus the corporate world. Understand the passion and purpose that will need to underlay your business endeavor. It will be hard work without any guarantees\, but the satisfaction and fulfillment can be enormous.
X-ALT-DESC;FMTTYPE=text/html:The idea of having&nbsp\;your own business is enticing to many\, but it is often intimidating&nbsp\;to take that step. Learn about the lifestyle impacts of being an&nbsp\;entrepreneur versus the corporate world. Understand the passion and purpose that will need to underlay your business endeavor. It will be hard work without any guarantees\, but the&nbsp\;satisfaction and fulfillment can be enormous.
LOCATION:Online Event
UID:e.3485.19961
SEQUENCE:3
DTSTAMP:20260421T211721Z
URL:https://www.mountdora.com/events/details/what-business-should-you-be-in-19961
END:VEVENT

END:VCALENDAR
