BEGIN:VCALENDAR
VERSION:2.0
PRODID:-//ChamberMaster//Event Calendar 2.0//EN
METHOD:PUBLISH
X-PUBLISHED-TTL:P3D
REFRESH-INTERVAL:P3D
CALSCALE:GREGORIAN
BEGIN:VEVENT
DTSTART:20250904T220000Z
DTEND:20250905T010000Z
X-MICROSOFT-CDO-ALLDAYEVENT:FALSE
SUMMARY:West Coast Vineyard Party at Pisces Rising
DESCRIPTION:Join Pisces Rising & Pisces Rising Catering as they team up to offer an Exclusive 5-Course Wine Dinner. Experience an unforgettable evening of culinary excellence from Pisces Rising Catering\, perfectly paired with exceptional wines from Argyle\, Markham\, and Textbook.\n\nEach course thoughtfully crafted to complement the distinct profiles of these celebrated wineries.\n\nLimited seating available   reserve your spot today.\n\n\n\nMore information at https://www.facebook.com/events/1256284162556410
X-ALT-DESC;FMTTYPE=text/html:Join Pisces Rising &amp\; Pisces Rising Catering as they team up to offer an Exclusive 5-Course Wine Dinner.&nbsp\;Experience an unforgettable evening of culinary excellence from Pisces Rising Catering\, perfectly paired with exceptional wines from Argyle\, Markham\, and Textbook.<br />\nEach course thoughtfully crafted to complement the distinct profiles of these celebrated wineries.<br />\nLimited seating available &mdash\; reserve your spot today.<br />\n<br />\nMore information at&nbsp\;<a href="https://www.facebook.com/events/1256284162556410">https://www.facebook.com/events/1256284162556410</a>
LOCATION:Pisces Rising 239 W 4th Ave. Mount Dora\, FL
UID:e.3485.19586
SEQUENCE:3
DTSTAMP:20260422T133122Z
URL:https://www.mountdora.com/events/details/west-coast-vineyard-party-at-pisces-rising-19586
END:VEVENT

END:VCALENDAR
