BEGIN:VCALENDAR
VERSION:2.0
PRODID:-//ChamberMaster//Event Calendar 2.0//EN
METHOD:PUBLISH
X-PUBLISHED-TTL:P3D
REFRESH-INTERVAL:P3D
CALSCALE:GREGORIAN
BEGIN:VEVENT
DTSTART:20250104T160000Z
DTEND:20250104T200000Z
X-MICROSOFT-CDO-ALLDAYEVENT:FALSE
SUMMARY:Wanderlust at Dark Void
DESCRIPTION:Join Wanderlust Traveling Book Shop and Dark Void Candle Company for a bookish pop up and adult book fair!
X-ALT-DESC;FMTTYPE=text/html:Join Wanderlust Traveling Book Shop and Dark Void Candle Company for a bookish pop up and adult book fair!
LOCATION:Dark Void Candle Company 348 N Alexander St Mount Dora\, FL 32757
UID:e.3485.13658
SEQUENCE:3
DTSTAMP:20260422T205230Z
URL:https://www.mountdora.com/events/details/wanderlust-at-dark-void-13658
END:VEVENT

END:VCALENDAR
