BEGIN:VCALENDAR
VERSION:2.0
PRODID:-//ChamberMaster//Event Calendar 2.0//EN
METHOD:PUBLISH
X-PUBLISHED-TTL:P3D
REFRESH-INTERVAL:P3D
CALSCALE:GREGORIAN
BEGIN:VEVENT
DTSTART:20250709T160000Z
DTEND:20250709T170000Z
X-MICROSOFT-CDO-ALLDAYEVENT:FALSE
SUMMARY:W-2 Seesaw Economy
DESCRIPTION:Are you feeling burnt out and overwhelmed with the demands of your current career? Do you feel stuck in the W-2 Seesaw Economy and crave more financial security and work-life balance?\n\n\n\nDuring this webinar\, we will discuss the challenges of the current employment landscape and share insights on how to break free from the Work Martyr mindset. We will explore alternative career ownership choices\, including franchise ownership\, and explain why entrepreneurship can be a great option for those seeking more control over their career and work-life balance.\n\n\n\nDon't miss this opportunity to learn from a seasoned expert in career ownership and discover how you can take control of your career and transform your life. Register now to secure your spot in this informative and inspiring webinar.
X-ALT-DESC;FMTTYPE=text/html:Are you feeling burnt out and overwhelmed with the demands of your current career? Do you feel stuck in the W-2 Seesaw Economy and crave more financial security and work-life balance?<br />\n<br />\nDuring this webinar\, we will discuss the challenges of the current employment landscape and share insights on how to break free from the Work Martyr mindset. We will explore alternative career ownership choices\, including franchise ownership\, and explain why entrepreneurship can be a great option for those seeking more control over their career and work-life balance.<br />\n<br />\nDon&#39\;t miss this opportunity to learn from a seasoned expert in career ownership and discover how you can take control of your career and transform your life. Register now to secure your spot in this informative and inspiring webinar.
LOCATION:Live Event (ONLINE)
UID:e.3485.18362
SEQUENCE:3
DTSTAMP:20260422T120553Z
URL:https://www.mountdora.com/events/details/w-2-seesaw-economy-07-09-2025-18362
END:VEVENT

END:VCALENDAR
