BEGIN:VCALENDAR
VERSION:2.0
PRODID:-//ChamberMaster//Event Calendar 2.0//EN
METHOD:PUBLISH
X-PUBLISHED-TTL:P3D
REFRESH-INTERVAL:P3D
CALSCALE:GREGORIAN
BEGIN:VEVENT
DTSTART:20250722T220000Z
DTEND:20250722T230000Z
X-MICROSOFT-CDO-ALLDAYEVENT:FALSE
SUMMARY:Visualiza el Éxito de Tu Negocio
DESCRIPTION:Antes de que puedas construirlo\, tienes que visualizarlo. En esta clase hablaremos sobre c mo desarrollar una visi n clara para tu negocio\, establecer metas estrat gicas y convertir esa visi n en acci n diaria. Porque el  xito comienza con claridad.
X-ALT-DESC;FMTTYPE=text/html:Antes de que puedas construirlo\, tienes que visualizarlo. En esta clase hablaremos sobre c&oacute\;mo desarrollar una visi&oacute\;n clara para tu negocio\, establecer metas estrat&eacute\;gicas y convertir esa visi&oacute\;n en acci&oacute\;n diaria. Porque el &eacute\;xito comienza con claridad.
LOCATION:LIVE EVENT (ONLINE)
UID:e.3485.18379
SEQUENCE:3
DTSTAMP:20260422T132117Z
URL:https://www.mountdora.com/events/details/visualiza-el-&#233;xito-de-tu-negocio-18379
END:VEVENT

END:VCALENDAR
