BEGIN:VCALENDAR
VERSION:2.0
PRODID:-//ChamberMaster//Event Calendar 2.0//EN
METHOD:PUBLISH
X-PUBLISHED-TTL:P3D
REFRESH-INTERVAL:P3D
CALSCALE:GREGORIAN
BEGIN:VEVENT
DTSTART;VALUE=DATE:20260305
DTEND;VALUE=DATE:20260306
TRANSP:TRANSPARENT
X-MICROSOFT-CDO-ALLDAYEVENT:TRUE
SUMMARY:Vincent’s Italian Restaurant Fundraiser for St. Patrick’s Early Childhood Learning Center
DESCRIPTION:Join Vincent's Italian Restaurant for a community fundraiser benefiting St. Patrick's Early Childhood Learning Center. On Thursday\, March 5\, Vincent's will donate 10% of all dine-in and take-out proceeds to support the learning center. Enjoy authentic Italian favorites while giving back to a local organization that serves Mount Dora families.
X-ALT-DESC;FMTTYPE=text/html:<span style="font-size:14px\;">Join Vincent&rsquo\;s Italian Restaurant for a community fundraiser benefiting St. Patrick&rsquo\;s Early Childhood Learning Center. On Thursday\, March 5\, Vincent&rsquo\;s will donate <strong data-end="665" data-start="621">10% of all dine-in and take-out proceeds</strong> to support the learning center. Enjoy authentic Italian favorites while giving back to a local organization that serves Mount Dora families.</span>
LOCATION:Location Vincent's Italian Restaurant 5914 N. Orange Blossom Trail Mount Dora\, FL 32757
UID:e.3485.21625
SEQUENCE:3
DTSTAMP:20260422T014727Z
URL:https://www.mountdora.com/events/details/vincent-s-italian-restaurant-fundraiser-for-st-patrick-s-early-childhood-learning-center-21625
END:VEVENT

END:VCALENDAR
