BEGIN:VCALENDAR
VERSION:2.0
PRODID:-//ChamberMaster//Event Calendar 2.0//EN
METHOD:PUBLISH
X-PUBLISHED-TTL:P3D
REFRESH-INTERVAL:P3D
CALSCALE:GREGORIAN
BEGIN:VEVENT
DTSTART:20250717T230000Z
DTEND:20250718T000000Z
X-MICROSOFT-CDO-ALLDAYEVENT:FALSE
SUMMARY:Users\, Buyers\, and Influencers
DESCRIPTION:There are several players that you must influence in order to bring a sales effort to a successful conclusion. These are the product or service user\, the actual buyer\, and those that influence the purchase decision. Whether these are actually the same person or not\, your chances of success are greatly improved by understanding their individual needs and perspectives.
X-ALT-DESC;FMTTYPE=text/html:There are&nbsp\;several players that you must influence&nbsp\;in order to bring a&nbsp\;sales effort to a successful conclusion. These are the product or service&nbsp\;user\, the actual&nbsp\;buyer\, and&nbsp\;those that influence&nbsp\;the purchase decision. Whether these are actually the same person or not\, your chances of success are greatly improved by understanding their&nbsp\;individual needs and perspectives.
LOCATION:LIVE EVENT (ONLINE)
UID:e.3485.18374
SEQUENCE:3
DTSTAMP:20260422T120509Z
URL:https://www.mountdora.com/events/details/users-buyers-and-influencers-07-17-2025-18374
END:VEVENT

END:VCALENDAR
