BEGIN:VCALENDAR
VERSION:2.0
PRODID:-//ChamberMaster//Event Calendar 2.0//EN
METHOD:PUBLISH
X-PUBLISHED-TTL:P3D
REFRESH-INTERVAL:P3D
CALSCALE:GREGORIAN
BEGIN:VEVENT
DTSTART:20260331T220000Z
DTEND:20260401T010000Z
X-MICROSOFT-CDO-ALLDAYEVENT:FALSE
SUMMARY:Unlock Business Funding: Get the Money You Need
DESCRIPTION:Stop letting money problems hold your business back! Discover the insider secrets to securing business funding from someone who knows what lenders really want. Explore funding option available from traditional loans to alternative financing and learn exactly what each source requires. You'll understand how lenders evaluate applications\, what red flags to avoid\, and how to position your business for funding success. Essential for startups and existing businesses facing cash flow challenges.
X-ALT-DESC;FMTTYPE=text/html:Stop letting money problems hold your business back!&nbsp\;Discover the insider secrets to securing business funding from someone who knows what lenders really want. Explore funding option available&mdash\;from traditional loans to alternative financing&mdash\;and learn exactly what each source requires. You&#39\;ll understand how lenders evaluate applications\, what red flags to avoid\, and how to position your business for funding success. Essential for startups and existing businesses facing cash flow challenges.
LOCATION:Online Event
UID:e.3485.19966
SEQUENCE:3
DTSTAMP:20260421T212310Z
URL:https://www.mountdora.com/events/details/unlock-business-funding-get-the-money-you-need-03-31-2026-19966
END:VEVENT

END:VCALENDAR
