BEGIN:VCALENDAR
VERSION:2.0
PRODID:-//ChamberMaster//Event Calendar 2.0//EN
METHOD:PUBLISH
X-PUBLISHED-TTL:P3D
REFRESH-INTERVAL:P3D
CALSCALE:GREGORIAN
BEGIN:VEVENT
DTSTART:20240425T213000Z
DTEND:20240425T230000Z
X-MICROSOFT-CDO-ALLDAYEVENT:FALSE
SUMMARY:UF Health Business Leader VIP Pre-Opening
DESCRIPTION:BUSINESS LEADER VIP PRE-OPENING\n\nCome to the UF Health Emergency & Urgent Care - Opening soon in Mount Dora!\n\nUF Health is showcasing the area's only combined ER & Urgent Care under one roof.\n\n  Meet the team   Take a Tour   Learn more about this innovative care concept\n\nWine\, beer and hors d'oeuvres will be served\n\n\n\nOn-site parking is limited. Please park in the overflow parking area. A shuttle service will be provided. 2801 S. Bay Street\, Eustis\, FL 33726
X-ALT-DESC;FMTTYPE=text/html:BUSINESS LEADER VIP PRE-OPENING<br />\nCome to the UF Health Emergency &amp\; Urgent Care - Opening soon in Mount Dora!<br />\nUF Health is showcasing the area&#39\;s only combined ER &amp\; Urgent Care under one roof.<br />\n&bull\; Meet the team &bull\; Take a Tour &bull\; Learn more about this innovative care concept<br />\nWine\, beer and hors d&#39\;oeuvres will be served<br />\n<br />\nOn-site parking is limited. Please park in the overflow parking area. A shuttle service will be provided. 2801 S. Bay Street\, Eustis\, FL 33726<br />\n&nbsp\;
LOCATION:
UID:e.3485.10109
SEQUENCE:3
DTSTAMP:20260423T112310Z
URL:https://www.mountdora.com/events/details/uf-health-business-leader-vip-pre-opening-10109
END:VEVENT

END:VCALENDAR
