BEGIN:VCALENDAR
VERSION:2.0
PRODID:-//ChamberMaster//Event Calendar 2.0//EN
METHOD:PUBLISH
X-PUBLISHED-TTL:P3D
REFRESH-INTERVAL:P3D
CALSCALE:GREGORIAN
BEGIN:VEVENT
DTSTART:20211031T220000Z
DTEND:20211101T000000Z
X-MICROSOFT-CDO-ALLDAYEVENT:FALSE
SUMMARY:Trick or Treat Mount Dora in Historic Downtown
DESCRIPTION:Trick or Treat in Downtown Mount Dora in 2021. Shops will be open and handing out candy and treats from 6 p.m. to 8 p.m.\n\nBring the whole family and enjoy a safe\, well lit area to show off your costumes.\n\nThere are usually more than 40 shops open to visit !
X-ALT-DESC;FMTTYPE=text/html:<p background-color:="" font-size:="" new="" style="color: rgb(255\, 153\, 0)\; font-family: " text-align:="" times=""><span style="color:#696969\;">Trick or Treat in Downtown Mount Dora in 2021.&nbsp\;Shops will be open and handing out candy and treats from 6 p.m. to 8 p.m.</span></p>\n\n<p background-color:="" font-size:="" new="" style="color: rgb(255\, 153\, 0)\; font-family: " text-align:="" times=""><span style="color:#696969\;">Bring the whole family and enjoy a safe\, well lit area to show off your costumes.</span></p>\n\n<p background-color:="" font-size:="" new="" style="color: rgb(255\, 153\, 0)\; font-family: " text-align:="" times=""><span style="color:#696969\;">There are usually more than 40 shops open to visit !</span></p>\n
LOCATION:Historic Downtown Mount Dora
UID:e.3485.3857
SEQUENCE:3
DTSTAMP:20260421T024400Z
URL:https://www.mountdora.com/events/details/trick-or-treat-mount-dora-in-historic-downtown-3857
END:VEVENT

END:VCALENDAR
