BEGIN:VCALENDAR
VERSION:2.0
PRODID:-//ChamberMaster//Event Calendar 2.0//EN
METHOD:PUBLISH
X-PUBLISHED-TTL:P3D
REFRESH-INTERVAL:P3D
CALSCALE:GREGORIAN
BEGIN:VEVENT
DTSTART:20251028T220000Z
DTEND:20251028T233000Z
X-MICROSOFT-CDO-ALLDAYEVENT:FALSE
SUMMARY:Top 5 Reasons Banks Deny Business Loan Requests
DESCRIPTION:Banks deny more than 80% of small business funding requests and nearly 90% of start-up requests. But why? Come learn the top five reasons why your small business loan request was (or will be) rejected and more importantly\, how to prepare yourself and your small business (including start-ups) to actually get funded. Join business loan broker Boyd Karren\, of Otro Financial\, for this informative look at what banks and alternative lenders look for when considering your request\, and the options that may still be available to you even if your loan request has already been rejected by a bank.
X-ALT-DESC;FMTTYPE=text/html:Banks deny more than 80% of small business funding requests and nearly 90% of start-up requests. But why? Come learn the top five reasons why your small business loan request was (or will be) rejected and more importantly\, how to prepare yourself and your small business (including start-ups) to actually get funded. Join business loan broker Boyd Karren\, of Otro Financial\, for this informative look at what banks and alternative lenders look for when considering&nbsp\;your request\, and the options that may still be available to you even if your loan request&nbsp\;has already been rejected by a bank.
LOCATION:Online Event
UID:e.3485.19654
SEQUENCE:3
DTSTAMP:20260422T091924Z
URL:https://www.mountdora.com/events/details/top-5-reasons-banks-deny-business-loan-requests-10-28-2025-19654
END:VEVENT

END:VCALENDAR
