BEGIN:VCALENDAR
VERSION:2.0
PRODID:-//ChamberMaster//Event Calendar 2.0//EN
METHOD:PUBLISH
X-PUBLISHED-TTL:P3D
REFRESH-INTERVAL:P3D
CALSCALE:GREGORIAN
BEGIN:VEVENT
DTSTART:20250104T190000Z
DTEND:20250104T200000Z
X-MICROSOFT-CDO-ALLDAYEVENT:FALSE
SUMMARY:The Ten Films that Put Florida on the Map!
DESCRIPTION:Adults are invited to join UCF Film Historian Dr. David Morton in a behind-the-scenes look into the ten most influential movies in Florida's history. Learn what makes filmmaking in Florida so special for filmmakers and moviegoers alike\, from Sidney Olcott's The Girl Spy (1908) to Sean Baker's The Florida Project (2018). No registration required. Sponsored by the Mount Dora Library Association.
X-ALT-DESC;FMTTYPE=text/html:Adults are invited to join UCF Film Historian Dr. David Morton in a behind-the-scenes look into the ten most influential movies in Florida&rsquo\;s history. Learn what makes filmmaking in Florida so special for filmmakers and moviegoers alike\, from Sidney Olcott&rsquo\;s The Girl Spy (1908) to Sean Baker&rsquo\;s The Florida Project (2018). No registration required. Sponsored by the Mount Dora Library Association.
LOCATION:W.T. Bland Public Library
UID:e.3485.13651
SEQUENCE:3
DTSTAMP:20260422T222906Z
URL:https://www.mountdora.com/events/details/the-ten-films-that-put-florida-on-the-map-13651
END:VEVENT

END:VCALENDAR
