BEGIN:VCALENDAR
VERSION:2.0
PRODID:-//ChamberMaster//Event Calendar 2.0//EN
METHOD:PUBLISH
X-PUBLISHED-TTL:P3D
REFRESH-INTERVAL:P3D
CALSCALE:GREGORIAN
BEGIN:VEVENT
DTSTART:20191116T010000Z
DTEND:20191116T030000Z
X-MICROSOFT-CDO-ALLDAYEVENT:FALSE
SUMMARY:The Sound of Music at Sonnentag Theatre at IceHouse
DESCRIPTION:Musical\n\n \n\nMusic by Richard Rodgers\; lyrics by Oscar Hammerstein II. Book by Howard Lindsay and Russel Crouse.  Suggested by "The Trapp Family Singers" by Maria Augusta Trapp.\n\nWinner of the 1960 Tony Award for Best Musical and the 1965 Academy Award for Best Picture.\n\nA young nun\, Maria\, is sent to be the governess for the seven children of a widowed Austrian naval officer.  He love for the youngsters\, and her joy for life\, capture the heart of the stern Captain.  Songs include "My Favorite Things"\, "Do-Re-Mi\," and "Climb Ev'ry Mountain".
X-ALT-DESC;FMTTYPE=text/html:<p style="color: rgb(0\, 0\, 0)\; font-family: verdana\, arial\, helvetica\; font-size: 12px\; background-color: rgb(241\, 241\, 241)\;"><span style="color: rgb(0\, 0\, 0)\; font-family: verdana\, arial\, helvetica\; font-size: 12px\; background-color: rgb(241\, 241\, 241)\;">Musical</span><br style="color: rgb(0\, 0\, 0)\; font-family: verdana\, arial\, helvetica\; font-size: 12px\; background-color: rgb(241\, 241\, 241)\;" />\n&nbsp\;</p>\n\n<p style="color: rgb(0\, 0\, 0)\; font-family: verdana\, arial\, helvetica\; font-size: 12px\; background-color: rgb(241\, 241\, 241)\;"><span style="font-size: 10pt\; line-height: normal\;">Music by Richard Rodgers\; lyrics by Oscar Hammerstein II. Book by Howard Lindsay and Russel Crouse.&nbsp\; Suggested by &quot\;The Trapp Family Singers&quot\; by Maria Augusta Trapp.</span></p>\n\n<p style="color: rgb(0\, 0\, 0)\; font-family: verdana\, arial\, helvetica\; font-size: 12px\; background-color: rgb(241\, 241\, 241)\;"><span style="font-size: 10pt\; line-height: normal\;">Winner of the 1960 Tony Award for Best Musical and the 1965 Academy Award for Best Picture.</span></p>\n\n<p style="color: rgb(0\, 0\, 0)\; font-family: verdana\, arial\, helvetica\; font-size: 12px\; background-color: rgb(241\, 241\, 241)\;">A young nun\, Maria\, is sent to be the governess for the seven children of a widowed Austrian naval officer.&nbsp\; He love for the youngsters\, and her joy for life\, capture the heart of the stern Captain.&nbsp\; Songs include &quot\;My Favorite Things&quot\;\, &quot\;Do-Re-Mi\,&quot\; and &quot\;Climb Ev&#39\;ry Mountain&quot\;.&nbsp\;</p>\n
LOCATION:Sonnentag Theatre at IceHouse 1100 N. Unser Street Mount Dora\, FL 32757
UID:e.3485.2115
SEQUENCE:3
DTSTAMP:20260420T233249Z
URL:https://www.mountdora.com/events/details/the-sound-of-music-at-sonnentag-theatre-at-icehouse-2115
END:VEVENT

END:VCALENDAR
