BEGIN:VCALENDAR
VERSION:2.0
PRODID:-//ChamberMaster//Event Calendar 2.0//EN
METHOD:PUBLISH
X-PUBLISHED-TTL:P3D
REFRESH-INTERVAL:P3D
CALSCALE:GREGORIAN
BEGIN:VEVENT
DTSTART:20250722T140000Z
DTEND:20250722T153000Z
X-MICROSOFT-CDO-ALLDAYEVENT:FALSE
SUMMARY:The Hidden Dangers of Single-Member LLCs for Florida Business Owners
DESCRIPTION:This webinar\, with small business attorney Laurie Lee\, will delve into the risks and vulnerabilities of single-member LLCs\, including piercing the corporate veil\, lack of separation between personal and business assets\, and how to mitigate these risks.
X-ALT-DESC;FMTTYPE=text/html:This webinar\, with small business attorney Laurie Lee\, will delve into the risks and vulnerabilities of single-member LLCs\, including piercing the corporate veil\, lack of separation between personal and business assets\, and how to mitigate these risks.
LOCATION:LIVE EVENT (ONLINE)
UID:e.3485.18377
SEQUENCE:3
DTSTAMP:20260422T120724Z
URL:https://www.mountdora.com/events/details/the-hidden-dangers-of-single-member-llcs-for-florida-business-owners-18377
END:VEVENT

END:VCALENDAR
