BEGIN:VCALENDAR
VERSION:2.0
PRODID:-//ChamberMaster//Event Calendar 2.0//EN
METHOD:PUBLISH
X-PUBLISHED-TTL:P3D
REFRESH-INTERVAL:P3D
CALSCALE:GREGORIAN
BEGIN:VEVENT
DTSTART:20260907T212500Z
DTEND:20260907T230000Z
X-MICROSOFT-CDO-ALLDAYEVENT:FALSE
SUMMARY:The Golden Triangle Toastmasters
DESCRIPTION:Every Monday except holidays\, join us in this safe and supportive space for experiential learning in the arts of communication and deep listening. Drop in for free and check us out. If this the right club for you\, it is just $60 plus a onetime $20 new member fee for a full 6 months.
X-ALT-DESC;FMTTYPE=text/html:Every Monday except holidays\, join us in this safe and supportive space for experiential learning in the arts of communication and deep listening. Drop in for free and check us out. If this the right club for you\, it is just $60 plus a onetime $20 new member fee for a full 6 months.
LOCATION:1 W Orange Eustis\, 32726
UID:e.3485.14883
SEQUENCE:3
DTSTAMP:20260422T031108Z
URL:https://www.mountdora.com/events/details/the-golden-triangle-toastmasters-09-07-2026-14883
END:VEVENT

END:VCALENDAR
