BEGIN:VCALENDAR
VERSION:2.0
PRODID:-//ChamberMaster//Event Calendar 2.0//EN
METHOD:PUBLISH
X-PUBLISHED-TTL:P3D
REFRESH-INTERVAL:P3D
CALSCALE:GREGORIAN
BEGIN:VEVENT
DTSTART:20250306T130000Z
DTEND:20250306T140000Z
X-MICROSOFT-CDO-ALLDAYEVENT:FALSE
SUMMARY:The EQ Edge: Mastering Emotional Intelligence for Entrepreneurial Success
DESCRIPTION:Emotional intelligence (EI) can be a game-changer in helping entrepreneurs navigate these turbulent moments with grace and resilience. In this webinar you will learn the following points:\n\n\n\nNormalize Struggles and Mistakes\n\n\n\nSelf-Awareness and Emotional Regulation\n\n\n\nEmpathy and Connection\n\n\n\nSelf-Confidence and Growth Mindset\n\n\n\nFinding the Brighter Side\n\n\n\nBy highlighting emotional intelligence in this way\, entrepreneurs can embrace their journey more holistically. You'll not only have the skills to survive challenges but to grow\, learn\, and thrive in the face of adversity.
X-ALT-DESC;FMTTYPE=text/html:Emotional intelligence (EI) can be a game-changer in helping entrepreneurs navigate these turbulent moments with grace and resilience. In this webinar you will learn the following points:<br />\n<br />\nNormalize Struggles and Mistakes<br />\n<br />\nSelf-Awareness and Emotional Regulation<br />\n<br />\nEmpathy and Connection<br />\n<br />\nSelf-Confidence and Growth Mindset<br />\n<br />\nFinding the Brighter Side<br />\n<br />\nBy highlighting emotional intelligence in this way\, entrepreneurs can embrace their journey more holistically. You&rsquo\;ll not only have the skills to survive challenges but to grow\, learn\, and thrive in the face of adversity.<br />\n<br />\n&nbsp\;
LOCATION:Online Event
UID:e.3485.13723
SEQUENCE:3
DTSTAMP:20260422T175822Z
URL:https://www.mountdora.com/events/details/the-eq-edge-mastering-emotional-intelligence-for-entrepreneurial-success-13723
END:VEVENT

END:VCALENDAR
