BEGIN:VCALENDAR
VERSION:2.0
PRODID:-//ChamberMaster//Event Calendar 2.0//EN
METHOD:PUBLISH
X-PUBLISHED-TTL:P3D
REFRESH-INTERVAL:P3D
CALSCALE:GREGORIAN
BEGIN:VEVENT
DTSTART:20260311T140000Z
DTEND:20260311T150000Z
X-MICROSOFT-CDO-ALLDAYEVENT:FALSE
SUMMARY:The Content Repurposing System: Create Once\, Use Everywhere
DESCRIPTION:Creating fresh content every week can feel like a full-time job but it doesn't have to be! This workshop teaches you how to work smarter with your content by repurposing what you already have.\n\n\n\nYou'll learn how to turn one great idea into multiple pieces of content for your blog\, email\, social media and video channels - all without starting from scratch. We'll cover practical workflows\, time-saving tools and examples to help you stretch every piece of content further.\n\n\n\nBy the end\, you'll have a complete repurposing system that keeps your content consistent\, cohesive and working hard across every platform so you can focus more on your business and less on what to post next.
X-ALT-DESC;FMTTYPE=text/html:Creating fresh content every week can feel like a full-time job but it doesn&rsquo\;t have to be! This workshop teaches you how to work smarter with your content by repurposing what you already have.<br />\n<br />\nYou&rsquo\;ll learn how to turn one great idea into multiple pieces of content for your blog\, email\, social media and video channels - all without starting from scratch. We&rsquo\;ll cover practical workflows\, time-saving tools and examples to help you stretch every piece of content further.<br />\n<br />\nBy the end\, you&rsquo\;ll have a complete repurposing system that keeps your content consistent\, cohesive and working hard across every platform so you can focus more on your business and less on what to post next.
LOCATION:Online Event
UID:e.3485.19952
SEQUENCE:3
DTSTAMP:20260421T211311Z
URL:https://www.mountdora.com/events/details/the-content-repurposing-system-create-once-use-everywhere-19952
END:VEVENT

END:VCALENDAR
