BEGIN:VCALENDAR
VERSION:2.0
PRODID:-//ChamberMaster//Event Calendar 2.0//EN
METHOD:PUBLISH
X-PUBLISHED-TTL:P3D
REFRESH-INTERVAL:P3D
CALSCALE:GREGORIAN
BEGIN:VEVENT
DTSTART:20250922T160000Z
DTEND:20250922T170000Z
X-MICROSOFT-CDO-ALLDAYEVENT:FALSE
SUMMARY:The Business Owner's Guide to E-A-T (Expertise\, Authority\, Trust)
DESCRIPTION:Are you building a website for your business or hiring someone to do it? Then this webinar is for you.\n\n\n\n Join Jennifer DeRosa for a powerful session that breaks down E-E-A-T Google's essential framework for content quality and learn how to use it to build credibility\, attract customers\, and improve your SEO.\n\nYou'll walk away with a clearer understanding of how to build trust\, show expertise\, and become the go-to resource in your space.\n\n\n\nFree to attend. Reserve your spot today!\n\n\n\n \n\n\n\nWhat Attendees Will Learn:\n\n\n\n? What E-E-A-T is and why it's a critical part of modern SEO.\n\n\n\n? How to build trust and authority into your website content.\n\n\n\n\n\n? The role of Google's Search Quality Raters and how their feedback shapes search results.\n\n\n\n? Why YMYL ("Your Money or Your Life") content is held to higher standards and how it affects you.\n\n\n\n? Actionable tips to improve your site's E-E-A-T and boost your visibility in search rankings.
X-ALT-DESC;FMTTYPE=text/html:Are you building a website for your business or hiring someone to do it? Then this webinar is for you.<br />\n<br />\n&nbsp\;Join Jennifer DeRosa for a powerful session that breaks down E-E-A-T&mdash\;Google&rsquo\;s essential framework for content quality&mdash\;and learn how to use it to build credibility\, attract customers\, and improve your SEO.<br />\nYou&rsquo\;ll walk away with a clearer understanding of how to build trust\, show expertise\, and become the go-to resource in your space.<br />\n<br />\nFree to attend. Reserve your spot today!<br />\n<br />\n&nbsp\;<br />\n<br />\nWhat Attendees Will Learn:<br />\n<br />\n? What E-E-A-T is and why it&rsquo\;s a critical part of modern SEO.<br />\n<br />\n? How to build trust and authority into your website content.<br />\n<br />\n<br />\n? The role of Google&#39\;s Search Quality Raters and how their feedback shapes search results.<br />\n<br />\n? Why YMYL (&ldquo\;Your Money or Your Life&rdquo\;) content is held to higher standards&mdash\;and how it affects you.<br />\n<br />\n? Actionable tips to improve your site&rsquo\;s E-E-A-T and boost your visibility in search rankings.<br />\n<br />\n<br />\n<br />\n<br />\n&nbsp\;
LOCATION:Online Event
UID:e.3485.19553
SEQUENCE:3
DTSTAMP:20260422T091652Z
URL:https://www.mountdora.com/events/details/the-business-owner-s-guide-to-e-a-t-expertise-authority-trust-19553
END:VEVENT

END:VCALENDAR
