BEGIN:VCALENDAR
VERSION:2.0
PRODID:-//ChamberMaster//Event Calendar 2.0//EN
METHOD:PUBLISH
X-PUBLISHED-TTL:P3D
REFRESH-INTERVAL:P3D
CALSCALE:GREGORIAN
BEGIN:VEVENT
DTSTART:20250918T160000Z
DTEND:20250918T173000Z
X-MICROSOFT-CDO-ALLDAYEVENT:FALSE
SUMMARY:The Art of Using Ai for Grant-Writing for Your Nonprofit
DESCRIPTION:Writing a winning grant-proposal for your nonprofit organization just got easier! Dive into the innovative world of grant-writing by harnessing the power of Artificial Intelligence (AI). Whether you're a novice curious about AI or looking to refine your grant-writing strategy\, consider this workshop as your gateway to incorporating cutting-edge technology into your funding strategy. During this workshop\, we'll cover everything from writing your organizational background through developing your budget using AI. \n\n\n\n What You Will Learn:\n\n\n\nHow AI can be an asset in grant-writing.\n\nWhere to find AI Tools that can aid in research\, writing\, and editing grant proposals.\n\nHow AI can help you align closely with grant-makers' priorities.\n\nStrategies for maintaining a human touch in AI-assisted proposals.\n\nReal-World Application: View a live demonstration of your steps to developing a complete grant proposal using AI.\n\nUnderstand AI pros\, cons\, and ethical considerations.\n\n\n\n This is an entry level workshop suitable for nonprofit professionals and grant writers who want to develop or enhance nonprofit grant proposals using AI.
X-ALT-DESC;FMTTYPE=text/html:Writing a winning grant-proposal for your nonprofit organization just got easier! Dive into the innovative world of grant-writing by harnessing the power of Artificial Intelligence (AI). Whether you&rsquo\;re a novice curious about AI or looking to refine your grant-writing strategy\, consider this workshop as your gateway to incorporating cutting-edge technology into your funding strategy. During this workshop\, we&rsquo\;ll cover everything from writing your organizational background through developing your budget using AI.&nbsp\;<br />\n<br />\n&nbsp\;What You Will Learn:<br />\n<br />\nHow AI can be an asset in grant-writing.<br />\nWhere to find AI Tools that can aid in research\, writing\, and editing grant proposals.<br />\nHow AI can help you align closely with grant-makers&rsquo\; priorities.<br />\nStrategies for maintaining a human touch in AI-assisted proposals.<br />\nReal-World Application: View a live demonstration of your steps to developing a complete grant proposal using AI.<br />\nUnderstand AI pros\, cons\, and ethical considerations.<br />\n<br />\n&nbsp\;This is an entry level workshop suitable for nonprofit professionals and grant writers who want to develop or enhance nonprofit grant proposals using AI.
LOCATION:Online Event
UID:e.3485.19551
SEQUENCE:3
DTSTAMP:20260422T110251Z
URL:https://www.mountdora.com/events/details/the-art-of-using-ai-for-grant-writing-for-your-nonprofit-09-18-2025-19551
END:VEVENT

END:VCALENDAR
