BEGIN:VCALENDAR
VERSION:2.0
PRODID:-//ChamberMaster//Event Calendar 2.0//EN
METHOD:PUBLISH
X-PUBLISHED-TTL:P3D
REFRESH-INTERVAL:P3D
CALSCALE:GREGORIAN
BEGIN:VEVENT
DTSTART:20250815T143000Z
DTEND:20250815T223000Z
X-MICROSOFT-CDO-ALLDAYEVENT:FALSE
SUMMARY:Tea Time
DESCRIPTION:Tea of the Day: Mango Tango\n\n[Or choose any of our 60+ loose-leaf teas to be made hot or iced to go!]
X-ALT-DESC;FMTTYPE=text/html:<p><span style="color:#000000"><span style="font-family:raleway\,sans-serif\; font-size:16px"><strong>Tea of the Day: Mango Tango</strong><br />\n[Or choose any of our 60+ loose-leaf teas to be made hot or iced to go!]&nbsp\;</span></span></p>\n\n<p><br />\n&nbsp\;</p>\n
LOCATION:
UID:e.3485.19583
SEQUENCE:3
DTSTAMP:20260422T145739Z
URL:https://www.mountdora.com/events/details/tea-time-08-15-2025-19583
END:VEVENT

END:VCALENDAR
