BEGIN:VCALENDAR
VERSION:2.0
PRODID:-//ChamberMaster//Event Calendar 2.0//EN
METHOD:PUBLISH
X-PUBLISHED-TTL:P3D
REFRESH-INTERVAL:P3D
CALSCALE:GREGORIAN
BEGIN:VEVENT
DTSTART:20250923T160000Z
DTEND:20250923T173000Z
X-MICROSOFT-CDO-ALLDAYEVENT:FALSE
SUMMARY:Taking your Business From Survival to Scalable in 2025
DESCRIPTION:According to the Bureau of Labor Statistics\, the #1 reason for business failure is a lack of capital\, cash flow\, and funding. In this webinar we will discuss what businesses need to focus on to fix the overlooked details that stop over 80% of businesses from obtaining funding in the first place. Besides the obvious key elements of streamlining processes\, investing in the right technology\, building a strong and adaptable system\, and understanding customer needs deeply to bring tremendous value to the marketplace--there are Four Cornerstones that position your business for maximum funding that most business owners completely ignore or at the very least don't realize the magnitude and repercussions of failing to develop these areas until it's too late. With that said\, for those in attendance\, the trajectory of your business changes TODAY!
X-ALT-DESC;FMTTYPE=text/html:According to&nbsp\;the Bureau of Labor Statistics\,&nbsp\;the #1 reason for business failure is a lack of capital\, cash flow\, and funding.&nbsp\;In this webinar we will discuss what businesses need to focus on to fix the overlooked details that stop over 80% of businesses from obtaining funding in the first place. Besides the obvious key elements of&nbsp\;streamlining processes\, investing in the right technology\, building a strong and adaptable system\, and understanding customer needs deeply&nbsp\;to bring tremendous value to the marketplace--there are&nbsp\;Four Cornerstones&nbsp\;that position your business for maximum funding that most business owners completely ignore or at the very least don&rsquo\;t realize the magnitude and repercussions of failing to develop these areas until it&rsquo\;s too late. With that said\, for those in attendance\, the trajectory of your business changes TODAY!&nbsp\;
LOCATION:Online Event
UID:e.3485.19555
SEQUENCE:3
DTSTAMP:20260422T092421Z
URL:https://www.mountdora.com/events/details/taking-your-business-from-survival-to-scalable-in-2025-19555
END:VEVENT

END:VCALENDAR
