BEGIN:VCALENDAR
VERSION:2.0
PRODID:-//ChamberMaster//Event Calendar 2.0//EN
METHOD:PUBLISH
X-PUBLISHED-TTL:P3D
REFRESH-INTERVAL:P3D
CALSCALE:GREGORIAN
BEGIN:VEVENT
DTSTART:20250721T140000Z
DTEND:20250721T160000Z
X-MICROSOFT-CDO-ALLDAYEVENT:FALSE
SUMMARY:Take Your Business From Chaos to Clarity
DESCRIPTION:Here's the truth most entrepreneurs are stuck because they're building their business completely out of order. And no one's telling them. Today\, I'm breaking it down. No sugarcoating. No B.S. Just the real steps you need to finally make your business work. Watch this if you're ready to face the truth and fix what's broken.
X-ALT-DESC;FMTTYPE=text/html:Here&rsquo\;s the truth&mdash\;most entrepreneurs are stuck because they&rsquo\;re building their business completely out of order. And no one&rsquo\;s telling them.&nbsp\;Today\, I&rsquo\;m breaking it down. No sugarcoating. No B.S. Just the real steps you need to finally make your business work. Watch this if you&#39\;re ready to face the truth and fix what&rsquo\;s broken.
LOCATION:LIVE EVENT (ONLINE)
UID:e.3485.18375
SEQUENCE:3
DTSTAMP:20260422T120647Z
URL:https://www.mountdora.com/events/details/take-your-business-from-chaos-to-clarity-18375
END:VEVENT

END:VCALENDAR
