BEGIN:VCALENDAR
VERSION:2.0
PRODID:-//ChamberMaster//Event Calendar 2.0//EN
METHOD:PUBLISH
X-PUBLISHED-TTL:P3D
REFRESH-INTERVAL:P3D
CALSCALE:GREGORIAN
BEGIN:VEVENT
DTSTART:20251030T160000Z
DTEND:20251030T170000Z
X-MICROSOFT-CDO-ALLDAYEVENT:FALSE
SUMMARY:Supervising Others: A Survival Guide for the New Supervisor
DESCRIPTION:Supervising others can be a tough job! Between managing your own time and projects\, helping your team members solve problems and complete tasks\, and helping other supervisors\, your day can fill up before you know it. This workshop will help front-line supervisors become more efficient and more proficient with delegating\, providing feedback\, resolving conflict\, and building high performance teams.
X-ALT-DESC;FMTTYPE=text/html:Supervising others can be a tough job! Between managing your own time and projects\, helping your team members solve problems and complete tasks\, and helping other supervisors\, your day can fill up before you know it. This workshop will help front-line supervisors become more efficient and more proficient with delegating\, providing feedback\, resolving conflict\, and building high performance teams.<br />\n<br />\n&nbsp\;
LOCATION:Online Event
UID:e.3485.19657
SEQUENCE:3
DTSTAMP:20260422T091628Z
URL:https://www.mountdora.com/events/details/supervising-others-a-survival-guide-for-the-new-supervisor-10-30-2025-19657
END:VEVENT

END:VCALENDAR
