BEGIN:VCALENDAR
VERSION:2.0
PRODID:-//ChamberMaster//Event Calendar 2.0//EN
METHOD:PUBLISH
X-PUBLISHED-TTL:P3D
REFRESH-INTERVAL:P3D
CALSCALE:GREGORIAN
BEGIN:VEVENT
DTSTART:20250601T140000Z
DTEND:20250831T150000Z
X-MICROSOFT-CDO-ALLDAYEVENT:FALSE
SUMMARY:Summer Worship at First Presbyterian
DESCRIPTION:Summer worship at 10:00 am June through August at First Presbyterian. We meet in the Sanctuary for a traditional worship with choir and organ. Communion is given on July 13. Starting July 20-August 31\, we meet in Biery Fellowship Hall for a casual cafe-style service with a Praise band. All are welcome\, please join us.
X-ALT-DESC;FMTTYPE=text/html:<span style="font-size:20px"><span style="font-family:tahoma">Summer worship at 10:00 am June through August at First Presbyterian. We meet in the Sanctuary for a traditional worship with choir and organ. Communion is given on July 13. Starting July 20-August 31\, we meet in Biery Fellowship Hall for a casual cafe-style service with a Praise band. All are welcome\, please join us.</span></span>
LOCATION:First Presbyterian Church Mount Dora 222 W 6th Ave. (Historic Downtown between Alexander and McDonald) Mount Dora\, FL 32726
UID:e.3485.18312
SEQUENCE:3
DTSTAMP:20260422T131941Z
URL:https://www.mountdora.com/events/details/summer-worship-at-first-prebyterian-18312
END:VEVENT

END:VCALENDAR
