BEGIN:VCALENDAR
VERSION:2.0
PRODID:-//ChamberMaster//Event Calendar 2.0//EN
METHOD:PUBLISH
X-PUBLISHED-TTL:P3D
REFRESH-INTERVAL:P3D
CALSCALE:GREGORIAN
BEGIN:VEVENT
DTSTART:20250603T230000Z
DTEND:20250604T000000Z
X-MICROSOFT-CDO-ALLDAYEVENT:FALSE
SUMMARY:Summer Book Group - Tuesday evenings
DESCRIPTION:Summer Book Group  Meets every Tuesday evening from 7:00   8:30 pm\, June 3   Aug 29 to discuss the book Mere Christianity by C.S. Lewis (parts 1 & 2) who explores the core beliefs of Christianity by providing an unequaled opportunity for believers and nonbelievers alike to hear a powerful\, rational case for the Christian faith. No cost\, all are welcome.
X-ALT-DESC;FMTTYPE=text/html:<span style="font-size:20px"><span style="font-family:tahoma"><strong>Summer Book Group</strong>&nbsp\; Meets every Tuesday evening from 7:00 &ndash\; 8:30 pm\, June 3 &ndash\; Aug 29 to discuss the book <em>Mere Christianity</em>&nbsp\;by C.S. Lewis (parts 1 &amp\; 2) who explores the core beliefs of Christianity by providing an unequaled opportunity for believers and nonbelievers alike to hear a powerful\, rational case for the Christian faith. No cost\, all are welcome.</span></span>
LOCATION:First Presbyterian Church Mount Dora 222 W 6th Ave. (Historic Downtown between Alexander and McDonald) Mount Dora 32757 Meet in the Chapel
UID:e.3485.18313
SEQUENCE:3
DTSTAMP:20260422T162020Z
URL:https://www.mountdora.com/events/details/summer-book-group-tuesday-evenings-18313
END:VEVENT

END:VCALENDAR
