BEGIN:VCALENDAR
VERSION:2.0
PRODID:-//ChamberMaster//Event Calendar 2.0//EN
METHOD:PUBLISH
X-PUBLISHED-TTL:P3D
REFRESH-INTERVAL:P3D
CALSCALE:GREGORIAN
BEGIN:VEVENT
DTSTART:20250927T190000Z
DTEND:20250927T220000Z
X-MICROSOFT-CDO-ALLDAYEVENT:FALSE
SUMMARY:Suds\, Pups & Pints Celebrity Dog Wash
DESCRIPTION:Suds\, Pups & Pints kicks off at 3:00 pm on Saturday\, September 27th\, at Sunset Park\, with charitable dog baths\, 8 wash stations\, family fun and entertainment. Proceeds benefiting the Humane Society of Lake County.
X-ALT-DESC;FMTTYPE=text/html:Suds\, Pups &amp\; Pints kicks off at 3:00 pm on Saturday\, September 27th\, at Sunset Park\, with charitable dog baths\, 8 wash stations\, family fun and entertainment. Proceeds benefiting the Humane Society of Lake County.&nbsp\;
LOCATION:Sunset Park Alexander Street\, Mount Dora
UID:e.3485.19727
SEQUENCE:3
DTSTAMP:20260422T132959Z
URL:https://www.mountdora.com/events/details/suds-pups-pints-celebrity-dog-wash-19727
END:VEVENT

END:VCALENDAR
