BEGIN:VCALENDAR
VERSION:2.0
PRODID:-//ChamberMaster//Event Calendar 2.0//EN
METHOD:PUBLISH
X-PUBLISHED-TTL:P3D
REFRESH-INTERVAL:P3D
CALSCALE:GREGORIAN
BEGIN:VEVENT
DTSTART:20250814T000000Z
DTEND:20250814T010000Z
X-MICROSOFT-CDO-ALLDAYEVENT:FALSE
SUMMARY:Storytelling: The Secret Ingredient to Accelerate Sales
DESCRIPTION:This webinar examines the immense power of storytelling in the sales process. Learn the why and how behind crafting relatable and compelling stories. As part of your sales strategy\, such stories play an instrumental role in persuading customers\, building relationships\, and ultimately steering sales growth.
X-ALT-DESC;FMTTYPE=text/html:This webinar examines the&nbsp\;immense power of storytelling in the sales process. Learn the why and how behind crafting relatable and compelling stories. As part of your sales strategy\, such stories play an instrumental role in persuading customers\, building relationships\, and ultimately&nbsp\;steering sales growth.
LOCATION:Online Event
UID:e.3485.19443
SEQUENCE:3
DTSTAMP:20260422T120720Z
URL:https://www.mountdora.com/events/details/storytelling-the-secret-ingredient-to-accelerate-sales-08-13-2025-19443
END:VEVENT

END:VCALENDAR
