BEGIN:VCALENDAR
VERSION:2.0
PRODID:-//ChamberMaster//Event Calendar 2.0//EN
METHOD:PUBLISH
X-PUBLISHED-TTL:P3D
REFRESH-INTERVAL:P3D
CALSCALE:GREGORIAN
BEGIN:VEVENT
DTSTART:20241205T130000Z
DTEND:20241205T143000Z
X-MICROSOFT-CDO-ALLDAYEVENT:FALSE
SUMMARY:Storytelling in Business: Harnessing the Power of Your Narrative
DESCRIPTION:Join us for an engaging workshop on the art of storytelling in business. In this 45-minute session\, you'll discover how to craft compelling narratives that connect with your audience\, build brand loyalty\, and drive your business success. You will be guided through practical techniques and strategies to integrate storytelling into your marketing and customer interactions.\n\n\n\n\n\n\n\n\n\nLearning Objectives:\n\n\n\nUnderstand the Core Elements of a Compelling Business Story:\n\n\n\n\n\n\n\n\n\nLearn the key components of an effective narrative\, including character\, conflict\, resolution\, and message\, and how to apply them to your business.\n\n\n\nDevelop and Outline Your Unique Business Story:\n\n\n\n\n\n\n\n\n\nUtilize interactive exercises and templates to brainstorm and structure your own business story\, drawing on Jori's expertise and examples.\n\n\n\nImplement Storytelling Techniques to Enhance Your Brand:\n\n\n\n\n\n\n\n\n\nGain practical insights on incorporating storytelling into your marketing materials\, social media\, and customer interactions\, while maintaining authenticity and consistency.
X-ALT-DESC;FMTTYPE=text/html:Join us for an engaging workshop on the art of storytelling in business. In this 45-minute session\, you&#39\;ll discover how to craft compelling narratives that connect with your audience\, build brand loyalty\, and drive your business success. You will be guided through practical techniques and strategies to integrate storytelling into your marketing and customer interactions.<br />\n<br />\n<br />\n<br />\n<br />\nLearning Objectives:<br />\n<br />\nUnderstand the Core Elements of a Compelling Business Story:<br />\n<br />\n<br />\n<br />\n<br />\nLearn the key components of an effective narrative\, including character\, conflict\, resolution\, and message\, and how to apply them to your business.<br />\n<br />\nDevelop and Outline Your Unique Business Story:<br />\n<br />\n<br />\n<br />\n<br />\nUtilize interactive exercises and templates to brainstorm and structure your own business story\, drawing on Jori&#39\;s expertise and examples.<br />\n<br />\nImplement Storytelling Techniques to Enhance Your Brand:<br />\n<br />\n<br />\n<br />\n<br />\nGain practical insights on incorporating storytelling into your marketing materials\, social media\, and customer interactions\, while maintaining authenticity and consistency.<br />\n<br />\n&nbsp\;
LOCATION:Online Event
UID:e.3485.13207
SEQUENCE:3
DTSTAMP:20260422T223347Z
URL:https://www.mountdora.com/events/details/storytelling-in-business-harnessing-the-power-of-your-narrative-13207
END:VEVENT

END:VCALENDAR
