BEGIN:VCALENDAR
VERSION:2.0
PRODID:-//ChamberMaster//Event Calendar 2.0//EN
METHOD:PUBLISH
X-PUBLISHED-TTL:P3D
REFRESH-INTERVAL:P3D
CALSCALE:GREGORIAN
BEGIN:VEVENT
DTSTART:20251001T220000Z
DTEND:20251002T010000Z
X-MICROSOFT-CDO-ALLDAYEVENT:FALSE
SUMMARY:Starting Your New Business
DESCRIPTION:This workshop is designed to guide you through the steps necessary for starting a business.\n\n\n\nIt covers the different legal business entities\, licenses needed\, taxes and insurance. We explain what business plans are all about and show you how to collect business information and research. You will learn about capital funding and the lender's view of the borrower.
X-ALT-DESC;FMTTYPE=text/html:This workshop is designed to guide you through the steps necessary for starting a business.<br />\n<br />\nIt covers the different legal business entities\, licenses needed\, taxes and insurance. We explain what business plans are all about and show you how to collect business information and research. You will learn about capital funding and the lender&#39\;s view of the borrower.<br />\n<br />\n&nbsp\;
LOCATION:Online Event
UID:e.3485.19608
SEQUENCE:3
DTSTAMP:20260422T074739Z
URL:https://www.mountdora.com/events/details/starting-your-new-business-10-01-2025-19608
END:VEVENT

END:VCALENDAR
