BEGIN:VCALENDAR
VERSION:2.0
PRODID:-//ChamberMaster//Event Calendar 2.0//EN
METHOD:PUBLISH
X-PUBLISHED-TTL:P3D
REFRESH-INTERVAL:P3D
CALSCALE:GREGORIAN
BEGIN:VEVENT
DTSTART:20250130T170000Z
DTEND:20250130T183000Z
X-MICROSOFT-CDO-ALLDAYEVENT:FALSE
SUMMARY:Starting a Nonprofit: Essential Insights for Aspiring Founders
DESCRIPTION:Description: Join us for an enlightening exploration of the nonprofit landscape in our 90-minute workshop developed specifically for aspiring nonprofit founders. During the workshop\, we'll demystify the complexities of establishing a nonprofit organization and guide you through critical considerations for your success. Whether you're contemplating the launch of a 501(c)(3) public charity or simply curious about the differences between various entity types\, this workshop offers invaluable knowledge.\n\n\n\n \n\n\n\nWhat You'll Learn:\n\n\n\nThe core differences between nonprofit public charities and other for-profit business models.\n\nThe unique roles and responsibilities of private foundations versus public charities.\n\nOperational and strategic differences between international\, national\, and local public charities.\n\nGain insight into the key state and federal regulations that govern nonprofit public charities\, along with the pros and cons of starting one.\n\nReceive practical advice on your next steps towards establishing a
X-ALT-DESC;FMTTYPE=text/html:Description:&nbsp\;Join us for an enlightening exploration of the nonprofit landscape in our 90-minute workshop developed specifically for aspiring nonprofit founders. During the workshop\, we&rsquo\;ll demystify the complexities of establishing a nonprofit organization and guide you through critical considerations for your success.&nbsp\;Whether you&rsquo\;re contemplating the launch of a 501(c)(3) public charity or simply curious about the differences between various entity types\, this workshop offers invaluable knowledge.<br />\n<br />\n&nbsp\;<br />\n<br />\nWhat You&rsquo\;ll Learn:<br />\n<br />\nThe core differences between nonprofit public charities and other for-profit business models.<br />\nThe unique roles and responsibilities of private foundations versus public charities.<br />\nOperational and strategic differences between international\, national\, and local public charities.<br />\nGain insight into the key state and federal regulations that govern nonprofit public charities\, along with the pros and cons of starting one.<br />\nReceive practical advice on your next steps towards establishing a
LOCATION:Online Event
UID:e.3485.13268
SEQUENCE:3
DTSTAMP:20260422T222936Z
URL:https://www.mountdora.com/events/details/starting-a-nonprofit-essential-insights-for-aspiring-founders-13268
END:VEVENT

END:VCALENDAR
