BEGIN:VCALENDAR
VERSION:2.0
PRODID:-//ChamberMaster//Event Calendar 2.0//EN
METHOD:PUBLISH
X-PUBLISHED-TTL:P3D
REFRESH-INTERVAL:P3D
CALSCALE:GREGORIAN
BEGIN:VEVENT
DTSTART:20250226T163000Z
DTEND:20250226T230000Z
X-MICROSOFT-CDO-ALLDAYEVENT:FALSE
SUMMARY:Special Smoked Pork Cuban Day & Prize Raffle
DESCRIPTION:At Munchies Live BBQ order our special Smoked Pork Cuban and Enter to Win a Prize!
X-ALT-DESC;FMTTYPE=text/html:At Munchies Live BBQ order our special Smoked Pork Cuban and Enter to Win a Prize!&nbsp\;
LOCATION:MUNCHIES LIVE BBQ 100 E 4th Ave Mount Dora\, FL 32757
UID:e.3485.12125
SEQUENCE:3
DTSTAMP:20260422T223229Z
URL:https://www.mountdora.com/events/details/special-smoked-pork-cuban-day-prize-raffle-02-26-2025-12125
END:VEVENT

END:VCALENDAR
