BEGIN:VCALENDAR
VERSION:2.0
PRODID:-//ChamberMaster//Event Calendar 2.0//EN
METHOD:PUBLISH
X-PUBLISHED-TTL:P3D
REFRESH-INTERVAL:P3D
CALSCALE:GREGORIAN
BEGIN:VEVENT
DTSTART:20250612T140000Z
DTEND:20250612T153000Z
X-MICROSOFT-CDO-ALLDAYEVENT:FALSE
SUMMARY:Social Media Mastery: Hashtags & Content Calendars
DESCRIPTION:Step up your social media game with our advanced webinar on hashtags and content calendars! Unlock the secrets of using hashtags to boost your visibility and attract a larger audience. Dive into the world of content calendars to strategically plan and schedule your posts\, ensuring a steady stream of engaging content that keeps your audience hooked. This session will give you the knowledge and tools you need to streamline your social media efforts\, foster growth\, and maintain a dynamic presence across platforms.\n\n\n\nIn this webinar\, you'll learn:\n\n\n\nHow to harness the power of hashtags to grow your audience\n\nHow to develop an annual editorial calendar for long-term planning\n\nTips for creating effective monthly content calendars\n\nTime-saving strategies for scheduling and posting content in advance
X-ALT-DESC;FMTTYPE=text/html:Step up your social media game with our advanced webinar on hashtags and content calendars! Unlock the secrets of using hashtags to boost your visibility and attract a larger audience. Dive into the world of content calendars to strategically plan and schedule your posts\, ensuring a steady stream of engaging content that keeps your audience hooked. This session will give you the knowledge and tools you need to streamline your social media efforts\, foster growth\, and maintain a dynamic presence across platforms.<br />\n<br />\nIn this webinar\, you&rsquo\;ll learn:<br />\n<br />\nHow to harness the power of hashtags to grow your audience<br />\nHow to develop an annual editorial calendar for long-term planning<br />\nTips for creating effective monthly content calendars<br />\nTime-saving strategies for scheduling and posting content in advance
LOCATION:Online Event
UID:e.3485.18290
SEQUENCE:3
DTSTAMP:20260422T145908Z
URL:https://www.mountdora.com/events/details/social-media-mastery-hashtags-content-calendars-18290
END:VEVENT

END:VCALENDAR
