BEGIN:VCALENDAR
VERSION:2.0
PRODID:-//ChamberMaster//Event Calendar 2.0//EN
METHOD:PUBLISH
X-PUBLISHED-TTL:P3D
REFRESH-INTERVAL:P3D
CALSCALE:GREGORIAN
BEGIN:VEVENT
DTSTART:20250915T170000Z
DTEND:20250915T180000Z
X-MICROSOFT-CDO-ALLDAYEVENT:FALSE
SUMMARY:Smart Social Media Marketing with AI: Save Time and Boost Engagement
DESCRIPTION:Let's be honest social media can feel like a full-time job. But what if you could spend less time on it and get better results? That's exactly what AI can do for you. In this SCORE session\, I'll show you how to use AI-powered tools to create high-quality content\, schedule posts strategically\, and boost engagement without spending hours glued to your phone. If you've ever felt stuck on what to post or frustrated by low reach\, this is for you.\n\n\n\nWe'll dive into how AI can help you generate fresh content ideas\, write captions that actually connect with your audience\, and analyze what's working (and what's not) in real time. Plus\, I'll show you how to automate the repetitive parts of social media so you can focus on what really matters building relationships and growing your business. No more guessing games\, no more burnout just smart\, strategic marketing that works.\n\n\n\nIf you're ready to finally take control of your social media without it taking over your life\, save your spot now! Let's make AI your secret weapon for saving time\, growing your brand\, and getting the engagement your business deserves.
X-ALT-DESC;FMTTYPE=text/html:Let&rsquo\;s be honest&mdash\;social media can feel like a full-time job. But what if you could spend&nbsp\;less&nbsp\;time on it and get&nbsp\;better&nbsp\;results? That&rsquo\;s exactly what AI can do for you. In this SCORE session\, I&rsquo\;ll show you how to use AI-powered tools to create high-quality content\, schedule posts strategically\, and boost engagement&mdash\;without spending hours glued to your phone. If you&rsquo\;ve ever felt stuck on what to post or frustrated by low reach\, this is for you.<br />\n<br />\nWe&rsquo\;ll dive into how AI can help you generate fresh content ideas\, write captions that actually connect with your audience\, and analyze what&rsquo\;s working (and what&rsquo\;s not)&nbsp\;in real time.&nbsp\;Plus\, I&rsquo\;ll show you how to automate the repetitive parts of social media so you can focus on what really matters&mdash\;building relationships and growing your business. No more guessing games\, no more burnout&mdash\;just smart\, strategic marketing that works.<br />\n<br />\nIf you&rsquo\;re ready to finally take control of your social media without it taking over&nbsp\;your life\, save your spot now! Let&rsquo\;s make AI your secret weapon for saving time\, growing your brand\, and getting the engagement your business deserves.
LOCATION:Online Event
UID:e.3485.19544
SEQUENCE:3
DTSTAMP:20260422T091625Z
URL:https://www.mountdora.com/events/details/smart-social-media-marketing-with-ai-save-time-and-boost-engagement-19544
END:VEVENT

END:VCALENDAR
