BEGIN:VCALENDAR
VERSION:2.0
PRODID:-//ChamberMaster//Event Calendar 2.0//EN
METHOD:PUBLISH
X-PUBLISHED-TTL:P3D
REFRESH-INTERVAL:P3D
CALSCALE:GREGORIAN
BEGIN:VEVENT
DTSTART:20250903T150000Z
DTEND:20250903T160000Z
X-MICROSOFT-CDO-ALLDAYEVENT:FALSE
SUMMARY:Simplify to Scale: 3 Operational Shifts That Create Freedom in Your Business
DESCRIPTION:Ready to get out of survival mode? In this masterclass\, you'll discover three powerful operational shifts that free up your time\, energy\, and focus. I'll show you how simplifying your systems can actually accelerate your growth and give you the space you've been craving. Simple moves\, serious momentum.
X-ALT-DESC;FMTTYPE=text/html:Ready to get out of survival mode? In this masterclass\, you&rsquo\;ll discover three powerful operational shifts that free up your time\, energy\, and focus. I&rsquo\;ll show you how simplifying your systems can actually accelerate your growth&mdash\;and give you the space you&rsquo\;ve been craving. Simple moves\, serious momentum.
LOCATION:Online Event
UID:e.3485.19530
SEQUENCE:3
DTSTAMP:20260422T105044Z
URL:https://www.mountdora.com/events/details/simplify-to-scale-3-operational-shifts-that-create-freedom-in-your-business-19530
END:VEVENT

END:VCALENDAR
