BEGIN:VCALENDAR
VERSION:2.0
PRODID:-//ChamberMaster//Event Calendar 2.0//EN
METHOD:PUBLISH
X-PUBLISHED-TTL:P3D
REFRESH-INTERVAL:P3D
CALSCALE:GREGORIAN
BEGIN:VEVENT
DTSTART:20251030T120000Z
DTEND:20251030T130000Z
X-MICROSOFT-CDO-ALLDAYEVENT:FALSE
SUMMARY:Simple & Effective Lead Generation Strategies That Bring You Your Best Clients
DESCRIPTION:Tired of marketing tactics that drain your energy (or your wallet)?\n\n\n\n\n\n\n\n\n\nIn this practical and informative session\, you'll learn how to set yourself apart from the crowd\, attract high-quality potential clients without spending a dime\, and network in a way that actually works.\n\n\n\n\n\n\n\n\n\nWe'll dive into simple\, effective\, and authentic strategies that feel good and get results so you can connect with your best-fit clients and grow your business sustainably.\n\n\n\n\n\n\n\n\n\nThis is perfect for anyone ready to market with more ease\, intention\, and impact.
X-ALT-DESC;FMTTYPE=text/html:Tired of marketing tactics that drain your energy (or your wallet)?<br />\n<br />\n<br />\n<br />\n<br />\nIn this practical and informative session\, you&#39\;ll learn how to set yourself apart from the crowd\, attract high-quality potential clients without spending a dime\, and network in a way that actually works.<br />\n<br />\n<br />\n<br />\n<br />\nWe&rsquo\;ll dive into simple\, effective\, and authentic strategies that feel good and get results&mdash\;so you can connect with your best-fit clients and grow your business sustainably.<br />\n<br />\n<br />\n<br />\n<br />\nThis is perfect for anyone ready to market with more ease\, intention\, and impact.
LOCATION:Online Event
UID:e.3485.19656
SEQUENCE:3
DTSTAMP:20260422T074952Z
URL:https://www.mountdora.com/events/details/simple-effective-lead-generation-strategies-that-bring-you-your-best-clients-19656
END:VEVENT

END:VCALENDAR
