BEGIN:VCALENDAR
VERSION:2.0
PRODID:-//ChamberMaster//Event Calendar 2.0//EN
METHOD:PUBLISH
X-PUBLISHED-TTL:P3D
REFRESH-INTERVAL:P3D
CALSCALE:GREGORIAN
BEGIN:VEVENT
DTSTART:20250115T160000Z
DTEND:20250115T170000Z
X-MICROSOFT-CDO-ALLDAYEVENT:FALSE
SUMMARY:Setting Boundaries and the Busy Business Owner
DESCRIPTION:In "Setting Boundaries for the Busy Business Owner\," you'll explore the vital role boundaries play in protecting your time\, energy\, and well-being. This workshop will guide you in understanding how healthy boundaries contribute not only to your self-care but also to stronger relationships especially the relationship you have with yourself. You'll learn practical strategies to establish and maintain boundaries that support your business goals while ensuring you don't lose sight of your personal needs. By the end\, you'll feel empowered to set limits that allow you to thrive in all areas of your life\, without feeling overwhelmed or stretched too thin.
X-ALT-DESC;FMTTYPE=text/html:In &quot\;Setting Boundaries for the Busy Business Owner\,&quot\; you&#39\;ll explore the vital role boundaries play in protecting your time\, energy\, and well-being. This workshop will guide you in understanding how healthy boundaries contribute not only to your self-care but also to stronger relationships&mdash\;especially the relationship you have with yourself. You&#39\;ll learn practical strategies to establish and maintain boundaries that support your business goals while ensuring you don&#39\;t lose sight of your personal needs. By the end\, you&#39\;ll feel empowered to set limits that allow you to thrive in all areas of your life\, without feeling overwhelmed or stretched too thin.<br />\n<br />\n&nbsp\;
LOCATION:Online Event
UID:e.3485.13256
SEQUENCE:3
DTSTAMP:20260422T222845Z
URL:https://www.mountdora.com/events/details/setting-boundaries-and-the-busy-business-owner-13256
END:VEVENT

END:VCALENDAR
