BEGIN:VCALENDAR
VERSION:2.0
PRODID:-//ChamberMaster//Event Calendar 2.0//EN
METHOD:PUBLISH
X-PUBLISHED-TTL:P3D
REFRESH-INTERVAL:P3D
CALSCALE:GREGORIAN
BEGIN:VEVENT
DTSTART:20250707T170000Z
DTEND:20250707T180000Z
X-MICROSOFT-CDO-ALLDAYEVENT:FALSE
SUMMARY:SEO and Content Optimization with AI: Get Your Business Found Online
DESCRIPTION:If your business isn't showing up online\, it might as well not exist harsh\, but true. The good news? AI can help you fix that without you needing to become an SEO expert. In this SCORE session\, I'll walk you through how AI-powered tools can take the mystery (and frustration) out of getting your content seen by the right people at the right time. Whether you're struggling with ranking on Google\, creating content that actually converts\, or just keeping up with the never-ending SEO updates\, this is for you.\n\n\n\nWe'll cover how AI can help you find the best keywords\, optimize your content in real-time\, and even generate high-quality blog posts\, social media content\, and website copy that people actually want to read. You'll learn how to work smarter\, not harder\, so your business gets found online without spending hours on complicated strategies that don't move the needle.\n\n\n\nIf you're ready to stop guessing and start showing up where it matters\, save your spot now! Let's make sure your business isn't just another hidden gem but the first thing people see when they search for what you offer.
X-ALT-DESC;FMTTYPE=text/html:If your business isn&rsquo\;t showing up online\, it might as well not exist&mdash\;harsh\, but true. The good news? AI can help you fix that&nbsp\;without&nbsp\;you needing to become an SEO expert. In this SCORE session\, I&rsquo\;ll walk you through how AI-powered tools can take the mystery (and frustration) out of getting your content seen by the right people at the right time. Whether you&rsquo\;re struggling with ranking on Google\, creating content that actually converts\, or just keeping up with the never-ending SEO updates\, this is for you.<br />\n<br />\nWe&rsquo\;ll cover how AI can help you find the best keywords\, optimize your content in real-time\, and even generate high-quality blog posts\, social media content\, and website copy&nbsp\;that people actually want to read.&nbsp\;You&rsquo\;ll learn how to work smarter\, not harder\, so your business gets found online&nbsp\;without&nbsp\;spending hours on complicated strategies that don&rsquo\;t move the needle.<br />\n<br />\nIf you&rsquo\;re ready to stop guessing and start showing up where it&nbsp\;matters\, save your spot now! Let&rsquo\;s make sure your business isn&rsquo\;t just another hidden gem&mdash\;but the first thing people see when they search for what you offer.<br />\n<br />\n&nbsp\;
LOCATION:Live Event (ONLINE)
UID:e.3485.18359
SEQUENCE:3
DTSTAMP:20260422T120152Z
URL:https://www.mountdora.com/events/details/seo-and-content-optimization-with-ai-get-your-business-found-online-18359
END:VEVENT

END:VCALENDAR
