BEGIN:VCALENDAR
VERSION:2.0
PRODID:-//ChamberMaster//Event Calendar 2.0//EN
METHOD:PUBLISH
X-PUBLISHED-TTL:P3D
REFRESH-INTERVAL:P3D
CALSCALE:GREGORIAN
BEGIN:VEVENT
DTSTART:20241211T170000Z
DTEND:20241211T180000Z
X-MICROSOFT-CDO-ALLDAYEVENT:FALSE
SUMMARY:SEO 101: Learn to Rank Higher - A Workshop for Small Businesses
DESCRIPTION:It's time to demystify the world of Search Engine Optimization for small business owners. In today's digital world\, being visible online is not just an advantage\; it's a necessity. Jennifer DeRosa of Toto SEO and Toto Coaching will empower you with a practical\, actionable SEO plan to elevate your online presence. This workshop is ideal for small business owners\, entrepreneurs\, and anyone interested in learning how to effectively perform SEO on their own. Whether you're a complete beginner or have some knowledge of SEO\, this workshop will provide valuable insights to help you understand what you need to do in order to rank higher in search engine results\n\n\n\n \n\n\n\nAttendees will learn:\n\n\n\nSEO Basics: Understand what SEO is and why it's crucial for your business. We'll break down complex concepts into easy-to-understand language.\n\nKeyword Research: Learn how to find and target the right keywords that your customers are using.\n\nOn-Page Optimization: Discover how to optimize your website's content and structure to improve rankings.\n\nLocal SEO: Specifically tailored for local businesses\, learn how to rank higher in local search results.\n\nSEO Tools and Resources: Get introduced to essential tools and resources that can help streamline your SEO efforts.\n\nAvoiding Common Pitfalls: Learn about common SEO mistakes and how to avoid them.
X-ALT-DESC;FMTTYPE=text/html:It&#39\;s time to demystify the world of Search Engine Optimization for small business owners. In today&rsquo\;s digital world\, being visible online is not just an advantage\; it&rsquo\;s a necessity. Jennifer DeRosa of Toto SEO and Toto Coaching will empower you with a practical\, actionable SEO plan to elevate your online presence. This workshop is ideal for small business owners\, entrepreneurs\, and anyone interested in learning how to effectively perform SEO on their own. Whether you&rsquo\;re a complete beginner or have some knowledge of SEO\, this workshop will provide valuable insights to help you understand what you need to do in order to rank higher in search engine results<br />\n<br />\n&nbsp\;<br />\n<br />\nAttendees will learn:<br />\n<br />\nSEO Basics: Understand what SEO is and why it&#39\;s crucial for your business. We&#39\;ll break down complex concepts into easy-to-understand language.<br />\nKeyword Research: Learn how to find and target the right keywords that your customers are using.<br />\nOn-Page Optimization: Discover how to optimize your website&#39\;s content and structure to improve rankings.<br />\nLocal SEO: Specifically tailored for local businesses\, learn how to rank higher in local search results.<br />\nSEO Tools and Resources: Get introduced to essential tools and resources that can help streamline your SEO efforts.<br />\nAvoiding Common Pitfalls: Learn about common SEO mistakes and how to avoid them.
LOCATION:Online Event
UID:e.3485.13214
SEQUENCE:3
DTSTAMP:20260422T223052Z
URL:https://www.mountdora.com/events/details/seo-101-learn-to-rank-higher-a-workshop-for-small-businesses-13214
END:VEVENT

END:VCALENDAR
