BEGIN:VCALENDAR
VERSION:2.0
PRODID:-//ChamberMaster//Event Calendar 2.0//EN
METHOD:PUBLISH
X-PUBLISHED-TTL:P3D
REFRESH-INTERVAL:P3D
CALSCALE:GREGORIAN
BEGIN:VEVENT
DTSTART:20241211T160000Z
DTEND:20241211T170000Z
X-MICROSOFT-CDO-ALLDAYEVENT:FALSE
SUMMARY:Self Care For the Busy Business Owner
DESCRIPTION:"Self Care for the Busy Business Owner" is designed for those who feel like there's no time for self-care amidst juggling work\, family\, and personal commitments. In this workshop\, you'll discover how simple\, intentional self-care doesn't need to be time-consuming or complicated to have a profound impact on your well-being. We'll dive into finding micro-moments quick\, 5-minute practices that you can easily integrate into your day to recharge and reset. By the end of the session\, you'll walk away with a personalized self-care plan\, tailored to your lifestyle\, helping you feel more balanced\, energized\, and ready to take on whatever comes your way.
X-ALT-DESC;FMTTYPE=text/html:&nbsp\;&quot\;Self Care for the Busy Business Owner&quot\; is designed for those who feel like there&#39\;s no time for self-care amidst juggling work\, family\, and personal commitments. In this workshop\, you&rsquo\;ll discover how simple\, intentional self-care doesn&rsquo\;t need to be time-consuming or complicated to have a profound impact on your well-being. We&rsquo\;ll dive into finding micro-moments&mdash\;quick\, 5-minute practices that you can easily integrate into your day to recharge and reset. By the end of the session\, you&rsquo\;ll walk away with a personalized self-care plan\, tailored to your lifestyle\, helping you feel more balanced\, energized\, and ready to take on whatever comes your way.
LOCATION:Online Event
UID:e.3485.13213
SEQUENCE:3
DTSTAMP:20260422T223129Z
URL:https://www.mountdora.com/events/details/self-care-for-the-busy-business-owner-13213
END:VEVENT

END:VCALENDAR
