BEGIN:VCALENDAR
VERSION:2.0
PRODID:-//ChamberMaster//Event Calendar 2.0//EN
METHOD:PUBLISH
X-PUBLISHED-TTL:P3D
REFRESH-INTERVAL:P3D
CALSCALE:GREGORIAN
BEGIN:VEVENT
DTSTART:20250807T160000Z
DTEND:20250807T163000Z
X-MICROSOFT-CDO-ALLDAYEVENT:FALSE
SUMMARY:SBA Lending 101
DESCRIPTION:What is an SBA Loan? An SBA loan is a government small business loan that can help cover startup costs\, working capital needs\, expansions\, real estate purchases and more. The U.S. Small Business Administration helps small businesses get funding by setting guidelines for loans and reducing lender risk. These SBA-backed loans make it easier for small businesses to get the funding they need.\n\n\n\nIn this webinar you will discover:\n\n\n\nBenefits of an SBA loan\n\nLoan Qualifications\n\nDifferent types of Loans\n\nDocumentation Requirements\n\n\n\nIn addition\, you will be walked through some examples of loan transactions and receive key insider tips.
X-ALT-DESC;FMTTYPE=text/html:What is an SBA Loan? An SBA loan is a government small business loan that can help cover startup costs\, working capital needs\, expansions\, real estate purchases and more. The U.S. Small Business Administration helps small businesses get funding by setting guidelines for loans and reducing lender risk. These SBA-backed loans make it easier for small businesses to get the funding they need.<br />\n<br />\nIn this webinar you will discover:<br />\n<br />\nBenefits of an SBA loan<br />\nLoan Qualifications<br />\nDifferent types of Loans<br />\nDocumentation Requirements<br />\n<br />\nIn addition\, you will be walked through some examples of loan transactions and receive key insider tips.
LOCATION:Online Event
UID:e.3485.19436
SEQUENCE:3
DTSTAMP:20260422T103905Z
URL:https://www.mountdora.com/events/details/sba-lending-101-08-07-2025-19436
END:VEVENT

END:VCALENDAR
