BEGIN:VCALENDAR
VERSION:2.0
PRODID:-//ChamberMaster//Event Calendar 2.0//EN
METHOD:PUBLISH
X-PUBLISHED-TTL:P3D
REFRESH-INTERVAL:P3D
CALSCALE:GREGORIAN
BEGIN:VEVENT
DTSTART:20241204T200000Z
DTEND:20241204T223000Z
X-MICROSOFT-CDO-ALLDAYEVENT:FALSE
SUMMARY:Santa Claus Portrait Experience
DESCRIPTION:I am thrilled to announce the most anticipated photo session opportunity of the year - Santa Claus Mini Sessions! Your child will get a custom session with Santa where they will have a personalized conversation. They can discuss their school work\, Christmas Wishlist\, what the crazy elf on the shelf has been up to or anything that you would like that would make the experience that much more special. Don't wait in line at the mall for a quick\, blurry photo with Santa and take advantage of the opportunity to get a professional photo gallery of an incredibly special moment in your child's life! Your Santa Claus Mini Session includes professional photographs and a personalized experience with Santa your kids will cherish for years to come!
X-ALT-DESC;FMTTYPE=text/html:I am thrilled to announce the most anticipated photo session opportunity of the year - Santa Claus Mini Sessions! Your child will get a custom session with Santa where they will have a personalized conversation. They can discuss their school work\, Christmas Wishlist\, what the crazy elf on the shelf has been up to or anything that you would like that would make the experience that much more special. Don&rsquo\;t wait in line at the mall for a quick\, blurry photo with Santa and take advantage of the opportunity to get a professional photo gallery of an incredibly special moment in your child&rsquo\;s life! Your Santa Claus Mini Session includes professional photographs and a personalized experience with Santa your kids will cherish for years to come!
LOCATION:106 5th Avenue Suite 204 Mount Dora\, FL 32757
UID:e.3485.12968
SEQUENCE:3
DTSTAMP:20260423T011516Z
URL:https://www.mountdora.com/events/details/santa-claus-portrait-experience-12-04-2024-12968
END:VEVENT

END:VCALENDAR
