BEGIN:VCALENDAR
VERSION:2.0
PRODID:-//ChamberMaster//Event Calendar 2.0//EN
METHOD:PUBLISH
X-PUBLISHED-TTL:P3D
REFRESH-INTERVAL:P3D
CALSCALE:GREGORIAN
BEGIN:VEVENT
DTSTART:20250814T143000Z
DTEND:20250814T223000Z
X-MICROSOFT-CDO-ALLDAYEVENT:FALSE
SUMMARY:Sample of the Day
DESCRIPTION:Sip\, Savor & Sample August Adventures\n\nWeek 3: Island Get-a-way\n\n\n\nEnjoy our Mad Mojo Blend mixed in sour cream\, served with corn chips!
X-ALT-DESC;FMTTYPE=text/html:<strong><span style="font-size:16px">Sip\, Savor &amp\; Sample August Adventures</span><br />\n<span style="font-size:14px">Week 3: Island Get-a-way</span><br />\n<br />\n<span style="font-size:12px">Enjoy our Mad Mojo Blend mixed in sour cream\, served with corn chips!</span></strong>
LOCATION:
UID:e.3485.19584
SEQUENCE:3
DTSTAMP:20260422T162115Z
URL:https://www.mountdora.com/events/details/sample-of-the-day-08-14-2025-19584
END:VEVENT

END:VCALENDAR
